BEGIN:VCALENDAR
VERSION:2.0
PRODID:-//Ansari Holistic Healing Institute - ECPv6.15.12.2//NONSGML v1.0//EN
CALSCALE:GREGORIAN
METHOD:PUBLISH
X-ORIGINAL-URL:https://ansarihealing.com
X-WR-CALDESC:Events for Ansari Holistic Healing Institute
REFRESH-INTERVAL;VALUE=DURATION:PT1H
X-Robots-Tag:noindex
X-PUBLISHED-TTL:PT1H
BEGIN:VTIMEZONE
TZID:Europe/Helsinki
BEGIN:DAYLIGHT
TZOFFSETFROM:+0200
TZOFFSETTO:+0300
TZNAME:EEST
DTSTART:20240331T010000
END:DAYLIGHT
BEGIN:STANDARD
TZOFFSETFROM:+0300
TZOFFSETTO:+0200
TZNAME:EET
DTSTART:20241027T010000
END:STANDARD
BEGIN:DAYLIGHT
TZOFFSETFROM:+0200
TZOFFSETTO:+0300
TZNAME:EEST
DTSTART:20250330T010000
END:DAYLIGHT
BEGIN:STANDARD
TZOFFSETFROM:+0300
TZOFFSETTO:+0200
TZNAME:EET
DTSTART:20251026T010000
END:STANDARD
BEGIN:DAYLIGHT
TZOFFSETFROM:+0200
TZOFFSETTO:+0300
TZNAME:EEST
DTSTART:20260329T010000
END:DAYLIGHT
BEGIN:STANDARD
TZOFFSETFROM:+0300
TZOFFSETTO:+0200
TZNAME:EET
DTSTART:20261025T010000
END:STANDARD
END:VTIMEZONE
BEGIN:VEVENT
DTSTART;TZID=Europe/Helsinki:20250409T190000
DTEND;TZID=Europe/Helsinki:20250410T220000
DTSTAMP:20260425T102313
CREATED:20250307T214312Z
LAST-MODIFIED:20250403T074536Z
UID:4206-1744225200-1744322400@ansarihealing.com
SUMMARY:ADHD: A Holistic Approach- 5th International Holistic Healing Symposium
DESCRIPTION:Living with Attention Deficit Hyperactivity Disorder (ADHD) \nLiving with Attention Deficit Hyperactivity Disorder (ADHD) can be overwhelming\, affecting every aspect of life. While conventional approaches focus on managing symptoms\, we believe that true transformation requires a deeper understanding of the interconnectedness of our physical\, emotional\, mental\, and spiritual well-being. This year\, the Ansari Holistic Healing Institute (AHHI) invites you to join the 5th International Holistic Healing Symposium (IHHS) 2025\, a free online event exploring “ADHD: A Holistic Perspective.” Our goal is to empower you with practical strategies and insights from renowned experts and practitioners. \nBy attending\, you will:\n\nLearn from esteemed speakers\, including Murshida Shaykha Müzeyyen Vargonen Ansari\nConnect with a supportive community of individuals\, families\, and practitioners\nGain practical knowledge and tools to implement immediately\nExplore a comprehensive approach to ADHD management\nParticipate in live Q&A sessions\n\nBenefits of attending include:\n\nDeveloping a deeper understanding of ADHD from a holistic viewpoint\nDiscovering innovative strategies for managing ADHD symptoms\nImproving focus\, concentration\, and emotional regulation\nLearning about dietary needs that support ADHD\nConnecting with like-minded individuals\nGet a 20% discount on the Beginner’s Course to Ansari Holistic Healing (BCAHH)\n\nRegister now for the free 5th International Holistic Healing Symposium (IHHS) 2025 and start your journey towards holistic well-being. It’s time to transform your understanding of ADHD and empower yourself with practical strategies. \nFree Online Event \nDate: 9th & 10th April 2025 \nTime: 7 pm – 10 pm SAST (South Africa Standard Time) \nFREE Prize Draws \n\n\n\n\n\nRegister\n* indicates required\nEmail Address *\nFirst Name \nPhone Number \n\nBirthday  \n /\n\n( mm / dd )\n\nCountry
URL:https://ansarihealing.com/event/adhd-a-holistic-approach-5th-ihhs-25/
LOCATION:Online
CATEGORIES:Symposiums
ATTACH;FMTTYPE=image/png:https://ansarihealing.com/wp-content/uploads/2025/03/ADHD-A-Holistic-Approach-4.png
ORGANIZER;CN="The Ansari Holistic Healing Institute":MAILTO:https://ansarihealing.com/
END:VEVENT
END:VCALENDAR